BEGIN:VCALENDAR
VERSION:2.0
PRODID:-//Dynamis-Zentrum Basel - ECPv5.3.2.1//NONSGML v1.0//EN
CALSCALE:GREGORIAN
METHOD:PUBLISH
X-WR-CALNAME:Dynamis-Zentrum Basel
X-ORIGINAL-URL:https://dynamis-zentrum.ch
X-WR-CALDESC:Veranstaltungen für Dynamis-Zentrum Basel
BEGIN:VTIMEZONE
TZID:Europe/Berlin
BEGIN:DAYLIGHT
TZOFFSETFROM:+0100
TZOFFSETTO:+0200
TZNAME:CEST
DTSTART:20260329T010000
END:DAYLIGHT
BEGIN:STANDARD
TZOFFSETFROM:+0200
TZOFFSETTO:+0100
TZNAME:CET
DTSTART:20261025T010000
END:STANDARD
END:VTIMEZONE
BEGIN:VEVENT
DTSTART;TZID=Europe/Berlin:20261021T190000
DTEND;TZID=Europe/Berlin:20261021T213000
DTSTAMP:20260421T103742
CREATED:20260112T191622Z
LAST-MODIFIED:20260114T111708Z
UID:4321-1792609200-1792618200@dynamis-zentrum.ch
SUMMARY:Medialer Abend: "Jenseitskontakte" mit Raffaela Forte
DESCRIPTION:An diesem medialen Abend hast du die Möglichkeit\, die geistige Welt auf besondere Weise zu erleben. \n\n\n\nMit Jenseitskontakten sowie mit Porträts-Zeichnungen von Verstorbenen – die Raffaela Forte in Trance malt – übermittelt sie als Medium Botschaften aus der geistigen Ebene. Dabei bestimmt die geistige Welt selbst\, welche Informationen zu dir kommen und wie sich die Verstorbenen zu erkennen geben. \n\n\n\nDiese Botschaften wirken als liebevolle Impulse\, die dich innerlich stärken und dir helfen können\, deinen Weg mit mehr Vertrauen und Klarheit zu gehen. \n\n\n\n\nFlyer zum Download …\n\n\n\n\nwww.medium-raffaela.ch \n\n\n\n \n\n\n\nAnmeldung: \n\n\n\nMichelle Bourquin\, Dynamis-Zentrum BaselTel. +41 (0)76 579 23 03email: info@dynamis-zentrum.ch \n\n\n\n \n\n\n\n\n_______________________________ \n\n\n\nDynamis-Zentrum Basel\n\n\n\nSpitzackerstr. 12CH-4103 Bottmingenwww.dynamis-zentrum.ch \n\n\n\n \n\n\n\n+ Google Map
URL:https://dynamis-zentrum.ch/event/medialer-abend-jenseitskontakte-mit-raffaela-forte-2026-10-21/
LOCATION:Dynamis-Zentrum Basel\, Spitzackerstr. 12\, 4103 Bottmingen\, Schweiz
CATEGORIES:Veranstaltungen Raffaela Forte
END:VEVENT
END:VCALENDAR